BEGIN:VCALENDAR
VERSION:2.0
PRODID:-//Peker Turizm Servis &amp; Taşımacılık - ECPv6.3.5//NONSGML v1.0//EN
CALSCALE:GREGORIAN
METHOD:PUBLISH
X-ORIGINAL-URL:https://www.pekertur.com
X-WR-CALDESC:Peker Turizm Servis &amp; Taşımacılık için etkinlikler
REFRESH-INTERVAL;VALUE=DURATION:PT1H
X-Robots-Tag:noindex
X-PUBLISHED-TTL:PT1H
BEGIN:VTIMEZONE
TZID:Europe/Istanbul
BEGIN:STANDARD
TZOFFSETFROM:+0300
TZOFFSETTO:+0300
TZNAME:+03
DTSTART:20240101T000000
END:STANDARD
END:VTIMEZONE
BEGIN:VEVENT
DTSTART;VALUE=DATE:20240115
DTEND;VALUE=DATE:20240116
DTSTAMP:20260424T192722
CREATED:20231119T215042Z
LAST-MODIFIED:20240305T181935Z
UID:2127-1705276800-1705363199@www.pekertur.com
SUMMARY:"Borabay Gölü" Turu
DESCRIPTION:Amasya sınırları içerisinde bulunan Borabay Gölü tam bir tabiat harikası. Eşsiz bir doğanın içerisinde yer alan göl ağaçların ve suyun birleşen manzarası ile adeta bir tabloyu andırıyor. Borabay Gölü’nün tabanında su kaynaması olduğu görülüyor. Eşsiz bir güzelliğe sahip olan göl dereden gelen sular ile besleniyor. \n \nBorabay Gölü’nün uzunluğu 900 metre\, genişliği ise 300 metre ve derinliği ise 25 metre uzunluğa sahip. Borabay Gölü; doğu ve batı kısımları bulunan bir vadi içerisinde yer alır. Bölgede meydana gelen heyelanın vadiyi tıkaması sonucunda derenin suları burada birikmeye başlar ve Borabay Gölü meydana gelir. Bölge her yıl birçok yerden ziyaretçi ağırlar. \n \nGöl yaklaşık olarak denizden 1.050 metre yükseklikte yer alıyor. Borabay Gölü zaman içerisinde kendiliğinden oluşmuş bir set gölü olma özelliği taşıyor. Gölün güney tarafında dik yamaçlar bulunuyor. Etrafında bulunan bol ormanlık alan sayesinde temiz oksijen içerisinde doğa yürüyüşleri yaparak gölün keyfini çıkarabilirsiniz.
URL:https://www.pekertur.com/etkinlikler/borabay-golu-turu/
LOCATION:Borabay Gölü\, Amasya\, Yakakent\, Boroboy/Taşova\, Amasya\, 05802\, Türkiye
CATEGORIES:Gezi Turları
ATTACH;FMTTYPE=image/jpeg:https://www.pekertur.com/wp-content/uploads/2023/11/IMG_2299.jpeg
ORGANIZER;CN="Kemal Peker":MAILTO:iletisim@pekertur.com
END:VEVENT
END:VCALENDAR