BEGIN:VCALENDAR
VERSION:2.0
PRODID:-//Peker Turizm Servis &amp; Taşımacılık - ECPv6.3.5//NONSGML v1.0//EN
CALSCALE:GREGORIAN
METHOD:PUBLISH
X-WR-CALNAME:Peker Turizm Servis &amp; Taşımacılık
X-ORIGINAL-URL:https://www.pekertur.com
X-WR-CALDESC:Peker Turizm Servis &amp; Taşımacılık için etkinlikler
REFRESH-INTERVAL;VALUE=DURATION:PT1H
X-Robots-Tag:noindex
X-PUBLISHED-TTL:PT1H
BEGIN:VTIMEZONE
TZID:Europe/Istanbul
BEGIN:STANDARD
TZOFFSETFROM:+0300
TZOFFSETTO:+0300
TZNAME:+03
DTSTART:20230101T000000
END:STANDARD
END:VTIMEZONE
BEGIN:VEVENT
DTSTART;VALUE=DATE:20231215
DTEND;VALUE=DATE:20231216
DTSTAMP:20260425T175803
CREATED:20231119T205105Z
LAST-MODIFIED:20240305T181929Z
UID:2108-1702598400-1702684799@www.pekertur.com
SUMMARY:"Şahinkaya Kanyon" Turu
DESCRIPTION:Kızılırmak üzerindeki en dar\, en uzun geçit burası. Dağ oluşumu (Orojenez) ve akarsu aşındırması sonucu meydana gelen Şahinkaya Kanyonu 2\,5 km uzunluğundadır. \n \nSamsun’un Vezirköprü İlçesi’nde Altınkaya Baraj Gölü’nde bulunan Şahinkaya Kanyonu\, kente gelen yerli ve yabancı turistlerin ilgi odağı olmuştur. \n \n3 bin 250 metre uzunluktaki kanyonda\, su derinliğinin ortalama 106 metre olduğu kanyon yüksekliğinin ise 340 metreye kadar çıktığı belirtiliyor.
URL:https://www.pekertur.com/etkinlikler/sahinkaya-kanyon-turu/
LOCATION:Şahinkaya Kanyonu\, Samsun\, Altınkaya\, Baraj Mevkii\, Samsun\, Vezirköprü İlçesi\, 55900\, Türkiye
CATEGORIES:Gezi Turları
ATTACH;FMTTYPE=image/jpeg:https://www.pekertur.com/wp-content/uploads/2023/11/IMG_2292-scaled.jpeg
ORGANIZER;CN="Kemal Peker":MAILTO:iletisim@pekertur.com
END:VEVENT
END:VCALENDAR